BEGIN:VCALENDAR
VERSION:2.0
PRODID:-//Plone.org//NONSGML plone.app.event//EN
X-WR-TIMEZONE:Europe/Madrid
BEGIN:VEVENT
SUMMARY:Exposició homenatge Ovidi Montllor
DTSTART;TZID=Europe/Madrid;VALUE=DATE-TIME:20250323T190000
DTEND;TZID=Europe/Madrid;VALUE=DATE-TIME:20250323T200000
DTSTAMP;VALUE=DATE-TIME:20260422T183518Z
UID:b825810afa9e983dce38a964891b1967
CREATED;VALUE=DATE-TIME:20250311T000000Z
CATEGORIES:Exposició
LOCATION:Sala Cultural Ramon de Capmany
ORGANIZER:ACPO, Arxiu Municipal i Àrea de Cultura
DESCRIPTION:Actes Ovidi Ferotge 2025
URL:https://www.canetdemar.cat/document.php?id=27076
END:VEVENT
END:VCALENDAR