BEGIN:VCALENDAR
VERSION:2.0
PRODID:-//Plone.org//NONSGML plone.app.event//EN
X-WR-TIMEZONE:Europe/Madrid
BEGIN:VEVENT
SUMMARY:Binga musical feminista
DTSTART;TZID=Europe/Madrid;VALUE=DATE-TIME:20250321T200000
DTEND;TZID=Europe/Madrid;VALUE=DATE-TIME:20250321T210000
DTSTAMP;VALUE=DATE-TIME:20260424T185258Z
UID:5397abdfacda30673c95cc609a77d07d
CREATED;VALUE=DATE-TIME:20250321T000000Z
LOCATION:Plaça 1 d'Octubre
ORGANIZER:Mandràgora
DESCRIPTION:Activitats 8M
URL:https://www.canetdemar.cat/document.php?id=27066
END:VEVENT
END:VCALENDAR