BEGIN:VCALENDAR
VERSION:2.0
PRODID:-//Plone.org//NONSGML plone.app.event//EN
X-WR-TIMEZONE:Europe/Madrid
BEGIN:VEVENT
SUMMARY:Salut pel català... D'on venim i què hem fet.
DTSTART;TZID=Europe/Madrid;VALUE=DATE-TIME:20250314T180000
DTEND;TZID=Europe/Madrid;VALUE=DATE-TIME:20250314T190000
DTSTAMP;VALUE=DATE-TIME:20260424T053752Z
UID:a36091d68515e6deca54f1aab11579c5
CREATED;VALUE=DATE-TIME:20250314T000000Z
LOCATION:Sala Cultural Ramon de Capmany
COMMENT:Preu: Gratuït
URL:https://www.canetdemar.cat/document.php?id=27054
END:VEVENT
END:VCALENDAR