BEGIN:VCALENDAR
VERSION:2.0
PRODID:-//Plone.org//NONSGML plone.app.event//EN
X-WR-TIMEZONE:Europe/Madrid
BEGIN:VEVENT
SUMMARY:Portes obertes a l'IET Institut Escola de Teixits
DTSTART;TZID=Europe/Madrid;VALUE=DATE-TIME:20250405T100000
DTEND;TZID=Europe/Madrid;VALUE=DATE-TIME:20250405T110000
DTSTAMP;VALUE=DATE-TIME:20260424T101431Z
UID:f7e38759f66b67cbc0baabb46d94707d
CREATED;VALUE=DATE-TIME:20250405T000000Z
URL:https://www.canetdemar.cat/document.php?id=27049
END:VEVENT
END:VCALENDAR