BEGIN:VCALENDAR
VERSION:2.0
PRODID:-//Plone.org//NONSGML plone.app.event//EN
X-WR-TIMEZONE:Europe/Madrid
BEGIN:VEVENT
SUMMARY:La ciutat de Reus de la mà de Lluís Domènech i Montaner
DTSTART;TZID=Europe/Madrid;VALUE=DATE-TIME:20250531T000000
DTEND;TZID=Europe/Madrid;VALUE=DATE-TIME:20250531T010000
DTSTAMP;VALUE=DATE-TIME:20260425T143007Z
UID:19350deb66e741cb4167332187f58f13
CREATED;VALUE=DATE-TIME:20250531T000000Z
CATEGORIES:Visita guiada
LOCATION:Altre (ho explico més avall)
ORGANIZER:Centre d'Estudis Lluís Domènech i Montaner
COMMENT:Preu: 42 &euro; (inclou autocar, guiatge i entrades als edificis)
Durada: De 9.00 h a 19.30 h
URL:https://www.canetdemar.cat/document.php?id=27032
END:VEVENT
END:VCALENDAR