BEGIN:VCALENDAR
VERSION:2.0
PRODID:-//Plone.org//NONSGML plone.app.event//EN
X-WR-TIMEZONE:Europe/Madrid
BEGIN:VEVENT
SUMMARY:Distorsió. Festival de rock
DTSTART;TZID=Europe/Madrid;VALUE=DATE-TIME:20250329T200000
DTEND;TZID=Europe/Madrid;VALUE=DATE-TIME:20250329T210000
DTSTAMP;VALUE=DATE-TIME:20260424T072048Z
UID:1c9f8f922187d0b734706940bc2f9c84
CREATED;VALUE=DATE-TIME:20250329T000000Z
CATEGORIES:Música
LOCATION:Jardins de Vil·la Flora
ORGANIZER:Vocalia jove de l'ACPO
COMMENT:Preu: Entrada general 6&euro; o Entrada general i sopar 12&euro;
Durada: 5 hores
URL:https://www.canetdemar.cat/document.php?id=27027
END:VEVENT
END:VCALENDAR