BEGIN:VCALENDAR
VERSION:2.0
PRODID:-//Plone.org//NONSGML plone.app.event//EN
X-WR-TIMEZONE:Europe/Madrid
BEGIN:VEVENT
SUMMARY:Club de lectura
DTSTART;TZID=Europe/Madrid;VALUE=DATE-TIME:20061215T190000
DTEND;TZID=Europe/Madrid;VALUE=DATE-TIME:20061215T200000
DTSTAMP;VALUE=DATE-TIME:20260423T214729Z
UID:4b4bfd0d9bac83213e67ecc67660d2f7
CREATED;VALUE=DATE-TIME:20061215T000000Z
LOCATION:Biblioteca
URL:https://www.canetdemar.cat/document.php?id=2702
END:VEVENT
END:VCALENDAR