BEGIN:VCALENDAR
VERSION:2.0
PRODID:-//Plone.org//NONSGML plone.app.event//EN
X-WR-TIMEZONE:Europe/Madrid
BEGIN:VEVENT
SUMMARY:Cinema alternatiu: "AMEN"
DTSTART;TZID=Europe/Madrid;VALUE=DATE-TIME:20030411T220000
DTEND;TZID=Europe/Madrid;VALUE=DATE-TIME:20030411T230000
DTSTAMP;VALUE=DATE-TIME:20260424T050705Z
UID:e739f879a4c3a1f69c6b4b025c932b85
CREATED;VALUE=DATE-TIME:20030411T000000Z
URL:https://www.canetdemar.cat/document.php?id=270
END:VEVENT
END:VCALENDAR