BEGIN:VCALENDAR
VERSION:2.0
PRODID:-//Plone.org//NONSGML plone.app.event//EN
X-WR-TIMEZONE:Europe/Madrid
BEGIN:VEVENT
SUMMARY:Portes obertes a la Casa museu Lluís Domènech i Montaner
DTSTART;TZID=Europe/Madrid;VALUE=DATE-TIME:20250406T100000
DTEND;TZID=Europe/Madrid;VALUE=DATE-TIME:20250406T110000
DTSTAMP;VALUE=DATE-TIME:20260423T014326Z
UID:241b2d3cd872316efea46006a39cd157
CREATED;VALUE=DATE-TIME:20250406T000000Z
LOCATION:Casa museu Lluís Domènech i Montaner.
ORGANIZER:Àrea de Cultura- Ajuntament de Canet de Mar
COMMENT:Preu: Gratuït
Durada: De 10h a 14h
URL:https://www.canetdemar.cat/document.php?id=26997
END:VEVENT
END:VCALENDAR