BEGIN:VCALENDAR
VERSION:2.0
PRODID:-//Plone.org//NONSGML plone.app.event//EN
X-WR-TIMEZONE:Europe/Madrid
BEGIN:VEVENT
SUMMARY:Visita teatralizada: La Maria us convida a passar
DTSTART;TZID=Europe/Madrid;VALUE=DATE-TIME:20250531T120000
DTEND;TZID=Europe/Madrid;VALUE=DATE-TIME:20250531T130000
DTSTAMP;VALUE=DATE-TIME:20260425T010342Z
UID:09c10136dad960969200199df244317a
CREATED;VALUE=DATE-TIME:20250531T000000Z
CATEGORIES:Visita guiada
LOCATION:Casa museu Lluís Domènech i Montaner.
ORGANIZER:Àrea de Cultura- Ajuntament de Canet de Mar
COMMENT:Preu: 7&euro; (descompte: jubilat, estudiant, carnet de biblioteca 4&euro;)
URL:https://www.canetdemar.cat/document.php?id=26994
END:VEVENT
END:VCALENDAR