BEGIN:VCALENDAR
VERSION:2.0
PRODID:-//Plone.org//NONSGML plone.app.event//EN
X-WR-TIMEZONE:Europe/Madrid
BEGIN:VEVENT
SUMMARY:Taller d'escriptura a càrrec de Otras narrativas
DTSTART;TZID=Europe/Madrid;VALUE=DATE-TIME:20250314T180000
DTEND;TZID=Europe/Madrid;VALUE=DATE-TIME:20250314T190000
DTSTAMP;VALUE=DATE-TIME:20260424T033641Z
UID:0936e3cb49ebd8abe5c9dc883921d012
CREATED;VALUE=DATE-TIME:20250314T000000Z
CATEGORIES:Literatura
LOCATION:Biblioteca P. Gual i Pujadas
ORGANIZER:Biblioteca P. Gual i Pujadas
COMMENT:Preu: Gratuït
DESCRIPTION:Veus africanes i noves narratives
URL:https://www.canetdemar.cat/document.php?id=26982
END:VEVENT
END:VCALENDAR