BEGIN:VCALENDAR
VERSION:2.0
PRODID:-//Plone.org//NONSGML plone.app.event//EN
X-WR-TIMEZONE:Europe/Madrid
BEGIN:VEVENT
SUMMARY:Acte d'entrega de trofeus i diplomes entitat Amics de la Sardana
DTSTART;TZID=Europe/Madrid;VALUE=DATE-TIME:20250215T180000
DTEND;TZID=Europe/Madrid;VALUE=DATE-TIME:20250215T190000
DTSTAMP;VALUE=DATE-TIME:20260424T220633Z
UID:e28086c91ae41d98dfae72bb458dc2c5
CREATED;VALUE=DATE-TIME:20250215T000000Z
CATEGORIES:Agenda institucional
LOCATION:Envelat de Vil·la Flora
URL:https://www.canetdemar.cat/document.php?id=26964
END:VEVENT
END:VCALENDAR