BEGIN:VCALENDAR
VERSION:2.0
PRODID:-//Plone.org//NONSGML plone.app.event//EN
X-WR-TIMEZONE:Europe/Madrid
BEGIN:VEVENT
SUMMARY:Assistència a la inauguració de l'exposició sobre els 50 anys de l'Escola Misericòrdia
DTSTART;TZID=Europe/Madrid;VALUE=DATE-TIME:20250214T163000
DTEND;TZID=Europe/Madrid;VALUE=DATE-TIME:20250214T173000
DTSTAMP;VALUE=DATE-TIME:20260421T114813Z
UID:efc78362f86ce10eaf3429778e76ab84
CREATED;VALUE=DATE-TIME:20250214T000000Z
CATEGORIES:Agenda institucional
LOCATION:Sala Cultural Ramon de Capmany
URL:https://www.canetdemar.cat/document.php?id=26963
END:VEVENT
END:VCALENDAR