BEGIN:VCALENDAR
VERSION:2.0
PRODID:-//Plone.org//NONSGML plone.app.event//EN
X-WR-TIMEZONE:Europe/Madrid
BEGIN:VEVENT
SUMMARY:Junta de Portaveus
DTSTART;TZID=Europe/Madrid;VALUE=DATE-TIME:20250213T190000
DTEND;TZID=Europe/Madrid;VALUE=DATE-TIME:20250213T200000
DTSTAMP;VALUE=DATE-TIME:20260424T230959Z
UID:bde435d5324c278d5ffaf1d580f5c000
CREATED;VALUE=DATE-TIME:20250213T000000Z
CATEGORIES:Agenda institucional
LOCATION:Sala de plens
URL:https://www.canetdemar.cat/document.php?id=26961
END:VEVENT
END:VCALENDAR