BEGIN:VCALENDAR
VERSION:2.0
PRODID:-//Plone.org//NONSGML plone.app.event//EN
X-WR-TIMEZONE:Europe/Madrid
BEGIN:VEVENT
SUMMARY:Reunió amb l'entitat Canet Futbol Club
DTSTART;TZID=Europe/Madrid;VALUE=DATE-TIME:20250213T160000
DTEND;TZID=Europe/Madrid;VALUE=DATE-TIME:20250213T170000
DTSTAMP;VALUE=DATE-TIME:20260424T221551Z
UID:74ecc60615cb1dc7f24200f1316e41db
CREATED;VALUE=DATE-TIME:20250213T000000Z
CATEGORIES:Agenda institucional
LOCATION:Sala annexa Alcaldia
URL:https://www.canetdemar.cat/document.php?id=26958
END:VEVENT
END:VCALENDAR