BEGIN:VCALENDAR
VERSION:2.0
PRODID:-//Plone.org//NONSGML plone.app.event//EN
X-WR-TIMEZONE:Europe/Madrid
BEGIN:VEVENT
SUMMARY:Entrevista Espai Alcaldia de Ràdio Canet de Mar
DTSTART;TZID=Europe/Madrid;VALUE=DATE-TIME:20250207T100000
DTEND;TZID=Europe/Madrid;VALUE=DATE-TIME:20250207T110000
DTSTAMP;VALUE=DATE-TIME:20260424T011946Z
UID:8082e864760dfda47d7b6e24c883ded4
CREATED;VALUE=DATE-TIME:20250207T000000Z
CATEGORIES:Agenda institucional
LOCATION:Estudis de Ràdio Canet - Carrer de la Font, 8
URL:https://www.canetdemar.cat/document.php?id=26948
END:VEVENT
END:VCALENDAR