BEGIN:VCALENDAR
VERSION:2.0
PRODID:-//Plone.org//NONSGML plone.app.event//EN
X-WR-TIMEZONE:Europe/Madrid
BEGIN:VEVENT
SUMMARY:Flow
DTSTART;TZID=Europe/Madrid;VALUE=DATE-TIME:20250330T170000
DTEND;TZID=Europe/Madrid;VALUE=DATE-TIME:20250330T180000
DTSTAMP;VALUE=DATE-TIME:20260423T133929Z
UID:258978a713d6ac5d4a13f13fc0445d88
CREATED;VALUE=DATE-TIME:20250330T000000Z
CATEGORIES:Cinema
LOCATION:TMC Centru
ORGANIZER:TMC i &OpenCurlyQuote;Onada Cine Club
COMMENT:Preu: Gratuït
Durada: 83 minuts
DESCRIPTION:Especial Premis Lux
URL:https://www.canetdemar.cat/document.php?id=26936
END:VEVENT
END:VCALENDAR