BEGIN:VCALENDAR
VERSION:2.0
PRODID:-//Plone.org//NONSGML plone.app.event//EN
X-WR-TIMEZONE:Europe/Madrid
BEGIN:VEVENT
SUMMARY:Dahomey i curtmetratge Les estatues també moren
DTSTART;TZID=Europe/Madrid;VALUE=DATE-TIME:20250314T200000
DTEND;TZID=Europe/Madrid;VALUE=DATE-TIME:20250314T210000
DTSTAMP;VALUE=DATE-TIME:20260424T012319Z
UID:6a250a428b8618541974b94c9771e2c9
CREATED;VALUE=DATE-TIME:20250314T000000Z
CATEGORIES:Cinema
LOCATION:TMC Centru
ORGANIZER:TMC i &OpenCurlyQuote;Onada Cine Club
COMMENT:Preu: Gratuït
Durada: 67 minuts la pelicula i 30 minuts el curtmetratge
DESCRIPTION:Especial Premis Lux
URL:https://www.canetdemar.cat/document.php?id=26934
END:VEVENT
END:VCALENDAR