BEGIN:VCALENDAR
VERSION:2.0
PRODID:-//Plone.org//NONSGML plone.app.event//EN
X-WR-TIMEZONE:Europe/Madrid
BEGIN:VEVENT
SUMMARY:Celebració de l'Any Jubilar 2025 al Santuari de la Mare de Déu de la Misericòrdia
DTSTART;TZID=Europe/Madrid;VALUE=DATE-TIME:20250214T120000
DTEND;TZID=Europe/Madrid;VALUE=DATE-TIME:20250214T130000
DTSTAMP;VALUE=DATE-TIME:20260424T103042Z
UID:077b439cab48be71ca0e6dc83ad19b17
CREATED;VALUE=DATE-TIME:20250214T000000Z
LOCATION:Santuari de la Mare de Déu de la Misericòrdia
ORGANIZER:Parroquia de Sant Pere i Sant Pau
DESCRIPTION:Tots els divendres a les 12 del migdia res de l'Àngelus i cant de la Salve.
URL:https://www.canetdemar.cat/document.php?id=26933
END:VEVENT
END:VCALENDAR