BEGIN:VCALENDAR
VERSION:2.0
PRODID:-//Plone.org//NONSGML plone.app.event//EN
X-WR-TIMEZONE:Europe/Madrid
BEGIN:VEVENT
SUMMARY:Descoberta dels rials de Canet
DTSTART;TZID=Europe/Madrid;VALUE=DATE-TIME:20061203T100000
DTEND;TZID=Europe/Madrid;VALUE=DATE-TIME:20061203T110000
DTSTAMP;VALUE=DATE-TIME:20260424T094404Z
UID:e62ad60edfdb2a2fa9e1cfafa09e0e87
CREATED;VALUE=DATE-TIME:20061203T000000Z
LOCATION:Plaça 11 de Setembre
ORGANIZER:Fot-li castanya! ACPO
DESCRIPTION:Rial dels Ruals - Rial de Valldemaria
URL:https://www.canetdemar.cat/document.php?id=2693
END:VEVENT
END:VCALENDAR