BEGIN:VCALENDAR
VERSION:2.0
PRODID:-//Plone.org//NONSGML plone.app.event//EN
X-WR-TIMEZONE:Europe/Madrid
BEGIN:VEVENT
SUMMARY:Caldo de joies al taller de la Neus Soler
DTSTART;TZID=Europe/Madrid;VALUE=DATE-TIME:20070104T180000
DTEND;TZID=Europe/Madrid;VALUE=DATE-TIME:20070104T190000
DTSTAMP;VALUE=DATE-TIME:20260423T104402Z
UID:bd4765cffaaa6a721734393639b40884
CREATED;VALUE=DATE-TIME:20070104T000000Z
LOCATION:Can Pujadas de les Basses
COMMENT:Durada: fins dissabte, 4 de novembre de 2006
URL:https://www.canetdemar.cat/document.php?id=2692
END:VEVENT
END:VCALENDAR