BEGIN:VCALENDAR
VERSION:2.0
PRODID:-//Plone.org//NONSGML plone.app.event//EN
X-WR-TIMEZONE:Europe/Madrid
BEGIN:VEVENT
SUMMARY:Caldo de joies al taller de la Neus Soler
DTSTART;TZID=Europe/Madrid;VALUE=DATE-TIME:20061220T180000
DTEND;TZID=Europe/Madrid;VALUE=DATE-TIME:20061220T190000
DTSTAMP;VALUE=DATE-TIME:20260423T064539Z
UID:6e5373557817db8da8c70afeb2741653
CREATED;VALUE=DATE-TIME:20061220T000000Z
COMMENT:Durada: Del 20 al 23 de desembre
URL:https://www.canetdemar.cat/document.php?id=2691
END:VEVENT
END:VCALENDAR