BEGIN:VCALENDAR
VERSION:2.0
PRODID:-//Plone.org//NONSGML plone.app.event//EN
X-WR-TIMEZONE:Europe/Madrid
BEGIN:VEVENT
SUMMARY:Concert a l'Escola de Música
DTSTART;TZID=Europe/Madrid;VALUE=DATE-TIME:20030412T180000
DTEND;TZID=Europe/Madrid;VALUE=DATE-TIME:20030412T190000
DTSTAMP;VALUE=DATE-TIME:20260423T014944Z
UID:3e36ed89523ff7871b96749829928699
CREATED;VALUE=DATE-TIME:20030412T000000Z
URL:https://www.canetdemar.cat/document.php?id=269
END:VEVENT
END:VCALENDAR