BEGIN:VCALENDAR
VERSION:2.0
PRODID:-//Plone.org//NONSGML plone.app.event//EN
X-WR-TIMEZONE:Europe/Madrid
BEGIN:VEVENT
SUMMARY:Reunió Canets del Món
DTSTART;TZID=Europe/Madrid;VALUE=DATE-TIME:20250130T130000
DTEND;TZID=Europe/Madrid;VALUE=DATE-TIME:20250130T140000
DTSTAMP;VALUE=DATE-TIME:20260421T141441Z
UID:06ad7b6c8c70777338bceeaeae415f48
CREATED;VALUE=DATE-TIME:20250130T000000Z
CATEGORIES:Agenda institucional
LOCATION:Despatx de l'alcaldia
URL:https://www.canetdemar.cat/document.php?id=26893
END:VEVENT
END:VCALENDAR