BEGIN:VCALENDAR
VERSION:2.0
PRODID:-//Plone.org//NONSGML plone.app.event//EN
X-WR-TIMEZONE:Europe/Madrid
BEGIN:VEVENT
SUMMARY:Reunió sobre el mòdul fix del passeig maritim
DTSTART;TZID=Europe/Madrid;VALUE=DATE-TIME:20250123T103000
DTEND;TZID=Europe/Madrid;VALUE=DATE-TIME:20250123T113000
DTSTAMP;VALUE=DATE-TIME:20260423T190508Z
UID:7f814f0e23a4dda52f56a4823e437f03
CREATED;VALUE=DATE-TIME:20250123T000000Z
CATEGORIES:Agenda institucional
LOCATION:Sala annexa Alcaldia
URL:https://www.canetdemar.cat/document.php?id=26878
END:VEVENT
END:VCALENDAR