BEGIN:VCALENDAR
VERSION:2.0
PRODID:-//Plone.org//NONSGML plone.app.event//EN
X-WR-TIMEZONE:Europe/Madrid
BEGIN:VEVENT
SUMMARY:Reunió contractació
DTSTART;TZID=Europe/Madrid;VALUE=DATE-TIME:20250121T103000
DTEND;TZID=Europe/Madrid;VALUE=DATE-TIME:20250121T113000
DTSTAMP;VALUE=DATE-TIME:20260424T041138Z
UID:f3da743d4c7d0d3a28ff059e651a3fa1
CREATED;VALUE=DATE-TIME:20250121T000000Z
CATEGORIES:Agenda institucional
LOCATION:Sala annexa Alcaldia
URL:https://www.canetdemar.cat/document.php?id=26875
END:VEVENT
END:VCALENDAR