BEGIN:VCALENDAR
VERSION:2.0
PRODID:-//Plone.org//NONSGML plone.app.event//EN
X-WR-TIMEZONE:Europe/Madrid
BEGIN:VEVENT
SUMMARY:Assistència al lliurament de premis del circuit de Cros Comarcal del Maresme
DTSTART;TZID=Europe/Madrid;VALUE=DATE-TIME:20250118T180000
DTEND;TZID=Europe/Madrid;VALUE=DATE-TIME:20250118T190000
DTSTAMP;VALUE=DATE-TIME:20260423T085238Z
UID:c6309795f07fb90e631d99edea860237
CREATED;VALUE=DATE-TIME:20250118T000000Z
CATEGORIES:Agenda institucional
LOCATION:Envelat de Vil·la Flora
URL:https://www.canetdemar.cat/document.php?id=26872
END:VEVENT
END:VCALENDAR