BEGIN:VCALENDAR
VERSION:2.0
PRODID:-//Plone.org//NONSGML plone.app.event//EN
X-WR-TIMEZONE:Europe/Madrid
BEGIN:VEVENT
SUMMARY:Club de Lectura Molteslleltres
DTSTART;TZID=Europe/Madrid;VALUE=DATE-TIME:20250220T173000
DTEND;TZID=Europe/Madrid;VALUE=DATE-TIME:20250220T183000
DTSTAMP;VALUE=DATE-TIME:20260420T081449Z
UID:9428bc2617bf8ffe4db2d89796434159
CREATED;VALUE=DATE-TIME:20250220T000000Z
CATEGORIES:Literatura,Infantils
LOCATION:Biblioteca P. Gual i Pujadas
ORGANIZER:Biblioteca P. Gual i Pujadas
COMMENT:Preu: Gratuït
DESCRIPTION:Diari d'un gat assassí d'Anne Fine
URL:https://www.canetdemar.cat/document.php?id=26862
END:VEVENT
END:VCALENDAR