BEGIN:VCALENDAR
VERSION:2.0
PRODID:-//Plone.org//NONSGML plone.app.event//EN
X-WR-TIMEZONE:Europe/Madrid
BEGIN:VEVENT
SUMMARY:Visita amb les regidories de Platges i Brigada d'Obres i Serveis als passos d'accés a la platja
DTSTART;TZID=Europe/Madrid;VALUE=DATE-TIME:20250115T150000
DTEND;TZID=Europe/Madrid;VALUE=DATE-TIME:20250115T160000
DTSTAMP;VALUE=DATE-TIME:20260425T024012Z
UID:dd1e2359f43cdf8a35c8518c5d38ef15
CREATED;VALUE=DATE-TIME:20250115T000000Z
CATEGORIES:Agenda institucional
URL:https://www.canetdemar.cat/document.php?id=26838
END:VEVENT
END:VCALENDAR