BEGIN:VCALENDAR
VERSION:2.0
PRODID:-//Plone.org//NONSGML plone.app.event//EN
X-WR-TIMEZONE:Europe/Madrid
BEGIN:VEVENT
SUMMARY:Entrevista 'Espai Alcaldia' de Ràdio Canet de Mar
DTSTART;TZID=Europe/Madrid;VALUE=DATE-TIME:20250115T101500
DTEND;TZID=Europe/Madrid;VALUE=DATE-TIME:20250115T111500
DTSTAMP;VALUE=DATE-TIME:20260423T001016Z
UID:7b4b9b5b07b877b502a8a28ef1986896
CREATED;VALUE=DATE-TIME:20250115T000000Z
CATEGORIES:Agenda institucional
LOCATION:Estudis de Ràdio Canet
URL:https://www.canetdemar.cat/document.php?id=26837
END:VEVENT
END:VCALENDAR