BEGIN:VCALENDAR
VERSION:2.0
PRODID:-//Plone.org//NONSGML plone.app.event//EN
X-WR-TIMEZONE:Europe/Madrid
BEGIN:VEVENT
SUMMARY:Reunió Fundació Els Garrofers
DTSTART;TZID=Europe/Madrid;VALUE=DATE-TIME:20250113T173000
DTEND;TZID=Europe/Madrid;VALUE=DATE-TIME:20250113T183000
DTSTAMP;VALUE=DATE-TIME:20260424T170103Z
UID:e00b5df56f8b2c4c78cda9153e11d249
CREATED;VALUE=DATE-TIME:20250113T000000Z
CATEGORIES:Agenda institucional
LOCATION:Sala annexa Alcaldia
URL:https://www.canetdemar.cat/document.php?id=26836
END:VEVENT
END:VCALENDAR