BEGIN:VCALENDAR
VERSION:2.0
PRODID:-//Plone.org//NONSGML plone.app.event//EN
X-WR-TIMEZONE:Europe/Madrid
BEGIN:VEVENT
SUMMARY:Reunió interna de coordinació àrees d'Alcaldia i Comunicació
DTSTART;TZID=Europe/Madrid;VALUE=DATE-TIME:20250113T093000
DTEND;TZID=Europe/Madrid;VALUE=DATE-TIME:20250113T103000
DTSTAMP;VALUE=DATE-TIME:20260424T053821Z
UID:2b36d21513e021b8dbc299d96c41a394
CREATED;VALUE=DATE-TIME:20250113T000000Z
CATEGORIES:Agenda institucional
LOCATION:Despatx de l'alcaldia
URL:https://www.canetdemar.cat/document.php?id=26835
END:VEVENT
END:VCALENDAR