BEGIN:VCALENDAR
VERSION:2.0
PRODID:-//Plone.org//NONSGML plone.app.event//EN
X-WR-TIMEZONE:Europe/Madrid
BEGIN:VEVENT
SUMMARY:Junta de Govern Local
DTSTART;TZID=Europe/Madrid;VALUE=DATE-TIME:20241227T140000
DTEND;TZID=Europe/Madrid;VALUE=DATE-TIME:20241227T150000
DTSTAMP;VALUE=DATE-TIME:20260422T112728Z
UID:b0108c4a9438f1ddc045824af0322570
CREATED;VALUE=DATE-TIME:20241227T000000Z
CATEGORIES:Agenda institucional
LOCATION:Sala annexa Alcaldia
URL:https://www.canetdemar.cat/document.php?id=26816
END:VEVENT
END:VCALENDAR