BEGIN:VCALENDAR
VERSION:2.0
PRODID:-//Plone.org//NONSGML plone.app.event//EN
X-WR-TIMEZONE:Europe/Madrid
BEGIN:VEVENT
SUMMARY:Reunió 'Canets del Món'
DTSTART;TZID=Europe/Madrid;VALUE=DATE-TIME:20241223T093000
DTEND;TZID=Europe/Madrid;VALUE=DATE-TIME:20241223T103000
DTSTAMP;VALUE=DATE-TIME:20260424T221536Z
UID:caa8216b8555ccec3a8afb644dfc044d
CREATED;VALUE=DATE-TIME:20241223T000000Z
CATEGORIES:Agenda institucional
LOCATION:Despatx de l'alcaldia
URL:https://www.canetdemar.cat/document.php?id=26814
END:VEVENT
END:VCALENDAR