BEGIN:VCALENDAR
VERSION:2.0
PRODID:-//Plone.org//NONSGML plone.app.event//EN
X-WR-TIMEZONE:Europe/Madrid
BEGIN:VEVENT
SUMMARY:Maria Rosa
DTSTART;TZID=Europe/Madrid;VALUE=DATE-TIME:20250223T180000
DTEND;TZID=Europe/Madrid;VALUE=DATE-TIME:20250223T190000
DTSTAMP;VALUE=DATE-TIME:20260425T174715Z
UID:24c0804803dd01ed5bdb2df57e73cd38
CREATED;VALUE=DATE-TIME:20250223T000000Z
CATEGORIES:Teatre
LOCATION:TMC-Sala Centru
DESCRIPTION:51è Concurs de teatre amateur Premi Pedracastell 2025
URL:https://www.canetdemar.cat/document.php?id=26805
END:VEVENT
END:VCALENDAR