BEGIN:VCALENDAR
VERSION:2.0
PRODID:-//Plone.org//NONSGML plone.app.event//EN
X-WR-TIMEZONE:Europe/Madrid
BEGIN:VEVENT
SUMMARY:Quin desastre d'obra!
DTSTART;TZID=Europe/Madrid;VALUE=DATE-TIME:20250126T180000
DTEND;TZID=Europe/Madrid;VALUE=DATE-TIME:20250126T190000
DTSTAMP;VALUE=DATE-TIME:20260425T004645Z
UID:10575fb72a52b0e0dfdfeaf22479d14b
CREATED;VALUE=DATE-TIME:20250126T000000Z
CATEGORIES:Teatre
LOCATION:TMC-Sala Centru
DESCRIPTION:51è Concurs de teatre amateur Premi Pedracastell 2025
URL:https://www.canetdemar.cat/document.php?id=26800
END:VEVENT
END:VCALENDAR