BEGIN:VCALENDAR
VERSION:2.0
PRODID:-//Plone.org//NONSGML plone.app.event//EN
X-WR-TIMEZONE:Europe/Madrid
BEGIN:VEVENT
SUMMARY:Marató de Tv3 per al dolor crònic
DTSTART;TZID=Europe/Madrid;VALUE=DATE-TIME:20061213T193000
DTEND;TZID=Europe/Madrid;VALUE=DATE-TIME:20061213T203000
DTSTAMP;VALUE=DATE-TIME:20260421T110914Z
UID:5ce3466fa45a05322887d835efc1b50f
CREATED;VALUE=DATE-TIME:20061213T000000Z
LOCATION:Sala municipal d'exposicions
ORGANIZER:Sàlvia i Generalitat de Catalunya
DESCRIPTION:Vídeo conferència sobre el dolor crònic
URL:https://www.canetdemar.cat/document.php?id=2678
END:VEVENT
END:VCALENDAR