BEGIN:VCALENDAR
VERSION:2.0
PRODID:-//Plone.org//NONSGML plone.app.event//EN
X-WR-TIMEZONE:Europe/Madrid
BEGIN:VEVENT
SUMMARY:Assistència a la trobada de la Taula Domènech i Montaner
DTSTART;TZID=Europe/Madrid;VALUE=DATE-TIME:20241211T110000
DTEND;TZID=Europe/Madrid;VALUE=DATE-TIME:20241211T120000
DTSTAMP;VALUE=DATE-TIME:20260423T185507Z
UID:4381249c49058cfe5817205548010cbb
CREATED;VALUE=DATE-TIME:20241211T000000Z
CATEGORIES:Agenda institucional
LOCATION:Paissatge Urbà - Edifici Colón - Ajuntament de Barcelona
URL:https://www.canetdemar.cat/document.php?id=26765
END:VEVENT
END:VCALENDAR