BEGIN:VCALENDAR
VERSION:2.0
PRODID:-//Plone.org//NONSGML plone.app.event//EN
X-WR-TIMEZONE:Europe/Madrid
BEGIN:VEVENT
SUMMARY:Entrevista 'Espai Alcaldia' de Ràdio Canet de Mar
DTSTART;TZID=Europe/Madrid;VALUE=DATE-TIME:20241210T110000
DTEND;TZID=Europe/Madrid;VALUE=DATE-TIME:20241210T120000
DTSTAMP;VALUE=DATE-TIME:20260423T235324Z
UID:a5a2429dd0ab0277a91b3f12ba0bcbf0
CREATED;VALUE=DATE-TIME:20241210T000000Z
CATEGORIES:Agenda institucional
LOCATION:Estudis de Ràdio Canet
URL:https://www.canetdemar.cat/document.php?id=26763
END:VEVENT
END:VCALENDAR