BEGIN:VCALENDAR
VERSION:2.0
PRODID:-//Plone.org//NONSGML plone.app.event//EN
X-WR-TIMEZONE:Europe/Madrid
BEGIN:VEVENT
SUMMARY:Assistència al partit del Sènior del Canet Futbol Sala
DTSTART;TZID=Europe/Madrid;VALUE=DATE-TIME:20241207T161500
DTEND;TZID=Europe/Madrid;VALUE=DATE-TIME:20241207T171500
DTSTAMP;VALUE=DATE-TIME:20260423T153351Z
UID:ecf64963f995fddf9ca49be1bc3df99b
CREATED;VALUE=DATE-TIME:20241207T000000Z
CATEGORIES:Agenda institucional
LOCATION:Pavelló d'Esports
URL:https://www.canetdemar.cat/document.php?id=26759
END:VEVENT
END:VCALENDAR