BEGIN:VCALENDAR
VERSION:2.0
PRODID:-//Plone.org//NONSGML plone.app.event//EN
X-WR-TIMEZONE:Europe/Madrid
BEGIN:VEVENT
SUMMARY:Reunió Govern i Oposició per presentar la proposta d'Escut Oficial
DTSTART;TZID=Europe/Madrid;VALUE=DATE-TIME:20241205T183000
DTEND;TZID=Europe/Madrid;VALUE=DATE-TIME:20241205T193000
DTSTAMP;VALUE=DATE-TIME:20260424T230245Z
UID:92093b7ed2ad7de0fe695bd65d34674c
CREATED;VALUE=DATE-TIME:20241205T000000Z
CATEGORIES:Agenda institucional
LOCATION:Sala annexa Alcaldia
URL:https://www.canetdemar.cat/document.php?id=26757
END:VEVENT
END:VCALENDAR