BEGIN:VCALENDAR
VERSION:2.0
PRODID:-//Plone.org//NONSGML plone.app.event//EN
X-WR-TIMEZONE:Europe/Madrid
BEGIN:VEVENT
SUMMARY:Junta de Govern Local
DTSTART;TZID=Europe/Madrid;VALUE=DATE-TIME:20241205T170000
DTEND;TZID=Europe/Madrid;VALUE=DATE-TIME:20241205T180000
DTSTAMP;VALUE=DATE-TIME:20260421T123924Z
UID:b21c03a3e52158e4f04703eacdaa2158
CREATED;VALUE=DATE-TIME:20241205T000000Z
CATEGORIES:Agenda institucional
LOCATION:Sala annexa Alcaldia
URL:https://www.canetdemar.cat/document.php?id=26756
END:VEVENT
END:VCALENDAR