BEGIN:VCALENDAR
VERSION:2.0
PRODID:-//Plone.org//NONSGML plone.app.event//EN
X-WR-TIMEZONE:Europe/Madrid
BEGIN:VEVENT
SUMMARY:El venedor de fum
DTSTART;TZID=Europe/Madrid;VALUE=DATE-TIME:20250517T200000
DTEND;TZID=Europe/Madrid;VALUE=DATE-TIME:20250517T210000
DTSTAMP;VALUE=DATE-TIME:20260423T222735Z
UID:b4d6ff54caa0974479fb6b83a881c61f
CREATED;VALUE=DATE-TIME:20250517T000000Z
CATEGORIES:Teatre
LOCATION:TMC Odèon
ORGANIZER:TMC
COMMENT:Preu: Taquilla: 15 &euro;. Bonificada: 13 &euro; Abonament:  3TB (3 espectacles de 15 &euro; a 30 &euro;)
Durada: 80 minuts
DESCRIPTION:Joan Font de Comediants
URL:https://www.canetdemar.cat/document.php?id=26742
END:VEVENT
END:VCALENDAR