BEGIN:VCALENDAR
VERSION:2.0
PRODID:-//Plone.org//NONSGML plone.app.event//EN
X-WR-TIMEZONE:Europe/Madrid
BEGIN:VEVENT
SUMMARY:Com els Pingüins
DTSTART;TZID=Europe/Madrid;VALUE=DATE-TIME:20250223T120000
DTEND;TZID=Europe/Madrid;VALUE=DATE-TIME:20250223T130000
DTSTAMP;VALUE=DATE-TIME:20260424T120455Z
UID:1a3c355f944ab4bd4e4de1943a0165ba
CREATED;VALUE=DATE-TIME:20250223T000000Z
CATEGORIES:Infantils,Teatre
LOCATION:TMC Odèon
ORGANIZER:TMC
COMMENT:Preu: Taquilla: 8 &euro;. Bonificada: 7 &euro;
Durada: 50 minuts
DESCRIPTION:Cia. La Bleda
URL:https://www.canetdemar.cat/document.php?id=26731
END:VEVENT
END:VCALENDAR