BEGIN:VCALENDAR
VERSION:2.0
PRODID:-//Plone.org//NONSGML plone.app.event//EN
X-WR-TIMEZONE:Europe/Madrid
BEGIN:VEVENT
SUMMARY:Oli de fetge de bacallà i altres elements per a quinze relats
DTSTART;TZID=Europe/Madrid;VALUE=DATE-TIME:20250124T180000
DTEND;TZID=Europe/Madrid;VALUE=DATE-TIME:20250124T190000
DTSTAMP;VALUE=DATE-TIME:20260423T132135Z
UID:a766211b960d6923ab4995f16a674edf
CREATED;VALUE=DATE-TIME:20250124T000000Z
CATEGORIES:Literatura
LOCATION:Biblioteca P. Gual i Pujadas
ORGANIZER:Biblioteca P. Gual i Pujadas
COMMENT:Preu: Gratuït
DESCRIPTION:Presentació del llibre de Lola Casas
URL:https://www.canetdemar.cat/document.php?id=26727
END:VEVENT
END:VCALENDAR