BEGIN:VCALENDAR
VERSION:2.0
PRODID:-//Plone.org//NONSGML plone.app.event//EN
X-WR-TIMEZONE:Europe/Madrid
BEGIN:VEVENT
SUMMARY:Dinar Revetlla de Nadal
DTSTART;TZID=Europe/Madrid;VALUE=DATE-TIME:20241222T140000
DTEND;TZID=Europe/Madrid;VALUE=DATE-TIME:20241222T150000
DTSTAMP;VALUE=DATE-TIME:20260423T114803Z
UID:f291d56e5d2913448155d073daf17da2
CREATED;VALUE=DATE-TIME:20241222T000000Z
CATEGORIES:Festa
LOCATION:Envelat de Vil·la Flora
ORGANIZER:Associació Amics del ball de Canet de Mar
COMMENT:Preu: Socis 30&euro; - No socis 35&euro;
Durada: De 14 a 18,30 hores
DESCRIPTION:Dinar i ball de Nadal
URL:https://www.canetdemar.cat/document.php?id=26721
END:VEVENT
END:VCALENDAR