BEGIN:VCALENDAR
VERSION:2.0
PRODID:-//Plone.org//NONSGML plone.app.event//EN
X-WR-TIMEZONE:Europe/Madrid
BEGIN:VEVENT
SUMMARY:Mostra del treball de la primera residència artística
DTSTART;TZID=Europe/Madrid;VALUE=DATE-TIME:20241212T183000
DTEND;TZID=Europe/Madrid;VALUE=DATE-TIME:20241212T193000
DTSTAMP;VALUE=DATE-TIME:20260423T234916Z
UID:373acaede338d7e41dbbc6dee5cc69c6
CREATED;VALUE=DATE-TIME:20241212T000000Z
CATEGORIES:Teatre
LOCATION:Teatre Odèon (TMC)
ORGANIZER:Professorat del batxillerat d'arts escèniques i Mònica Barrio
COMMENT:Preu: Gratuït
Durada: 1h 30 minuts
DESCRIPTION:Peça teatral i debat posterior
URL:https://www.canetdemar.cat/document.php?id=26710
END:VEVENT
END:VCALENDAR