BEGIN:VCALENDAR
VERSION:2.0
PRODID:-//Plone.org//NONSGML plone.app.event//EN
X-WR-TIMEZONE:Europe/Madrid
BEGIN:VEVENT
SUMMARY:GIMCANA JOVE!
DTSTART;TZID=Europe/Madrid;VALUE=DATE-TIME:20030406T160000
DTEND;TZID=Europe/Madrid;VALUE=DATE-TIME:20030406T170000
DTSTAMP;VALUE=DATE-TIME:20260422T072757Z
UID:65fe87b53fd94eba8f16503037d34001
CREATED;VALUE=DATE-TIME:20030406T000000Z
URL:https://www.canetdemar.cat/document.php?id=267
END:VEVENT
END:VCALENDAR