BEGIN:VCALENDAR
VERSION:2.0
PRODID:-//Plone.org//NONSGML plone.app.event//EN
X-WR-TIMEZONE:Europe/Madrid
BEGIN:VEVENT
SUMMARY:Concert a benefici de Terra i Cel. Música entre espelmes
DTSTART;TZID=Europe/Madrid;VALUE=DATE-TIME:20241215T120000
DTEND;TZID=Europe/Madrid;VALUE=DATE-TIME:20241215T130000
DTSTAMP;VALUE=DATE-TIME:20260424T230003Z
UID:75e1bf312a317d37ea2f08a13c8776e6
CREATED;VALUE=DATE-TIME:20241215T000000Z
CATEGORIES:Música
LOCATION:TMC espai Odeon
ORGANIZER:ACPO - Associació Cultural Plataforma Odèon
COMMENT:Preu: NO  SOCIS - 18 &euro;    --- SOCIS 15 &euro; - Venda a Entrapolis i a guixeta 1 hora abans
Durada: 1 hores
DESCRIPTION:Conjuntament  l'Orfeó Misericòrdia i l'Orquestra de Cambra de l'ACPO
URL:https://www.canetdemar.cat/document.php?id=26693
END:VEVENT
END:VCALENDAR