BEGIN:VCALENDAR
VERSION:2.0
PRODID:-//Plone.org//NONSGML plone.app.event//EN
X-WR-TIMEZONE:Europe/Madrid
BEGIN:VEVENT
SUMMARY:El Conte de Nadal
DTSTART;TZID=Europe/Madrid;VALUE=DATE-TIME:20241222T120000
DTEND;TZID=Europe/Madrid;VALUE=DATE-TIME:20241222T130000
DTSTAMP;VALUE=DATE-TIME:20260424T143257Z
UID:07ed0755cc77de30cf677cc85819bd0e
CREATED;VALUE=DATE-TIME:20241222T000000Z
CATEGORIES:Teatre
LOCATION:TMC-Sala Centru
URL:https://www.canetdemar.cat/document.php?id=26692
END:VEVENT
END:VCALENDAR